BEGIN:VCALENDAR
VERSION:2.0
PRODID:-//www.lincolnplayhouse.com//NONSGML kigkonsult.se iCalcreator 2.30.
 10//
CALSCALE:GREGORIAN
METHOD:PUBLISH
UID:9ebaffdb-1ec4-4aaa-a3ff-f136aa95df1c
X-WR-CALDESC:
X-WR-RELCALID:25e381600a12a85b40fb29ca7698190f
X-WR-TIMEZONE:America/Chicago
BEGIN:VTIMEZONE
TZID:America/Chicago
BEGIN:STANDARD
TZNAME:CST
DTSTART:20251102T020000
TZOFFSETFROM:-0500
TZOFFSETTO:-0600
RDATE:20261101T020000
END:STANDARD
BEGIN:DAYLIGHT
TZNAME:CDT
DTSTART:20260308T020000
TZOFFSETFROM:-0600
TZOFFSETTO:-0500
RDATE:20270314T020000
END:DAYLIGHT
END:VTIMEZONE
BEGIN:VEVENT
UID:ce6869d6-b0fe-4ba5-af44-b4963160a4fd
DTSTAMP:20260424T150950Z
DESCRIPTION:
DTSTART;TZID=America/Chicago:20260419T140000
DTEND;TZID=America/Chicago:20260419T163000
LOCATION:2500 S. 56th St.\, Lincoln\, NE 68506 US
SUMMARY:Pippin
END:VEVENT
END:VCALENDAR
