BEGIN:VCALENDAR
VERSION:2.0
PRODID:-//www.lincolnplayhouse.com//NONSGML kigkonsult.se iCalcreator 2.30.
 10//
CALSCALE:GREGORIAN
METHOD:PUBLISH
UID:4788fa5e-a224-44a9-a57d-063f2dae1258
X-WR-CALDESC:
X-WR-RELCALID:26426b69258fabf84d90e1f7644b8d54
X-WR-TIMEZONE:America/Chicago
BEGIN:VTIMEZONE
TZID:America/Chicago
BEGIN:STANDARD
TZNAME:CST
DTSTART:20251102T020000
TZOFFSETFROM:-0500
TZOFFSETTO:-0600
RDATE:20261101T020000
END:STANDARD
BEGIN:DAYLIGHT
TZNAME:CDT
DTSTART:20260308T020000
TZOFFSETFROM:-0600
TZOFFSETTO:-0500
RDATE:20270314T020000
END:DAYLIGHT
END:VTIMEZONE
BEGIN:VEVENT
UID:374d8d29-1717-4642-ba74-358b58ab3c3f
DTSTAMP:20260424T152319Z
DESCRIPTION:
DTSTART;TZID=America/Chicago:20260418T193000
DTEND;TZID=America/Chicago:20260418T220000
LOCATION:2500 S. 56th St.\, Lincoln\, NE 68506 US
SUMMARY:Pippin
END:VEVENT
END:VCALENDAR
