BEGIN:VCALENDAR
VERSION:2.0
PRODID:-//www.lincolnplayhouse.com//NONSGML kigkonsult.se iCalcreator 2.30.
 10//
CALSCALE:GREGORIAN
METHOD:PUBLISH
UID:3228519e-4c0d-4df3-8301-58ff09322530
X-WR-CALDESC:
X-WR-RELCALID:7f0a70c3624de0a4cfb3f4c184929cf6
X-WR-TIMEZONE:America/Chicago
BEGIN:VTIMEZONE
TZID:America/Chicago
BEGIN:STANDARD
TZNAME:CST
DTSTART:20251102T020000
TZOFFSETFROM:-0500
TZOFFSETTO:-0600
RDATE:20261101T020000
END:STANDARD
BEGIN:DAYLIGHT
TZNAME:CDT
DTSTART:20260308T020000
TZOFFSETFROM:-0600
TZOFFSETTO:-0500
RDATE:20270314T020000
END:DAYLIGHT
END:VTIMEZONE
BEGIN:VEVENT
UID:e8eac31d-5c1d-446d-b0bd-549d071438d9
DTSTAMP:20260424T152741Z
DESCRIPTION:
DTSTART;TZID=America/Chicago:20260417T193000
DTEND;TZID=America/Chicago:20260417T220000
LOCATION:2500 S. 56th St.\, Lincoln\, NE 68506 US
SUMMARY:Pippin
END:VEVENT
END:VCALENDAR
