BEGIN:VCALENDAR
VERSION:2.0
PRODID:-//www.lincolnplayhouse.com//NONSGML kigkonsult.se iCalcreator 2.30.
 10//
CALSCALE:GREGORIAN
METHOD:PUBLISH
UID:4199c004-698b-4fc1-8a09-6f0eeb04178e
X-WR-CALDESC:
X-WR-RELCALID:751b4f0e04fb0726f76ba5b955c1244a
X-WR-TIMEZONE:America/Chicago
BEGIN:VTIMEZONE
TZID:America/Chicago
BEGIN:STANDARD
TZNAME:CST
DTSTART:20221106T020000
TZOFFSETFROM:-0500
TZOFFSETTO:-0600
RDATE:20231105T020000
END:STANDARD
BEGIN:DAYLIGHT
TZNAME:CDT
DTSTART:20220313T020000
TZOFFSETFROM:-0600
TZOFFSETTO:-0500
RDATE:20230312T020000
RDATE:20240310T020000
END:DAYLIGHT
END:VTIMEZONE
BEGIN:VEVENT
UID:a705f6fe-ba03-4900-8d57-9e1abeb2a4bc
DTSTAMP:20260422T105705Z
DESCRIPTION:
DTSTART;TZID=America/Chicago:20221210T193000
DTEND;TZID=America/Chicago:20221210T210000
LOCATION:
SUMMARY:Rudolph the Red-Nosed Reindeer JR
END:VEVENT
END:VCALENDAR
