BEGIN:VCALENDAR
VERSION:2.0
PRODID:-//www.lincolnplayhouse.com//NONSGML kigkonsult.se iCalcreator 2.30.
 10//
CALSCALE:GREGORIAN
METHOD:PUBLISH
UID:843a0759-0c7e-4b50-b53c-5c7142173d27
X-WR-CALDESC:
X-WR-RELCALID:8092e1942ae7b4360cc2cfe769522756
X-WR-TIMEZONE:America/Chicago
BEGIN:VTIMEZONE
TZID:America/Chicago
BEGIN:STANDARD
TZNAME:CST
DTSTART:20251102T020000
TZOFFSETFROM:-0500
TZOFFSETTO:-0600
RDATE:20261101T020000
END:STANDARD
BEGIN:DAYLIGHT
TZNAME:CDT
DTSTART:20260308T020000
TZOFFSETFROM:-0600
TZOFFSETTO:-0500
RDATE:20270314T020000
END:DAYLIGHT
END:VTIMEZONE
BEGIN:VEVENT
UID:2126b9f0-13e9-4c21-9ac5-5e158ccdb13b
DTSTAMP:20260424T163056Z
DESCRIPTION:
DTSTART;TZID=America/Chicago:20260425T193000
DTEND;TZID=America/Chicago:20260425T220000
LOCATION:2500 S. 56th St.\, Lincoln\, NE 68506 US
SUMMARY:Pippin
END:VEVENT
END:VCALENDAR
