BEGIN:VCALENDAR
VERSION:2.0
PRODID:-//www.lincolnplayhouse.com//NONSGML kigkonsult.se iCalcreator 2.30.
 10//
CALSCALE:GREGORIAN
METHOD:PUBLISH
UID:bf3a863b-26b0-440f-8d71-d4f36edd0095
X-WR-CALDESC:
X-WR-RELCALID:39f834665b017c2ea9633dcbeb3c0e3d
X-WR-TIMEZONE:America/Chicago
BEGIN:VTIMEZONE
TZID:America/Chicago
BEGIN:STANDARD
TZNAME:CST
DTSTART:20251102T020000
TZOFFSETFROM:-0500
TZOFFSETTO:-0600
RDATE:20261101T020000
END:STANDARD
BEGIN:DAYLIGHT
TZNAME:CDT
DTSTART:20260308T020000
TZOFFSETFROM:-0600
TZOFFSETTO:-0500
RDATE:20270314T020000
END:DAYLIGHT
END:VTIMEZONE
BEGIN:VEVENT
UID:837eff9e-c231-4386-b137-7f94b147ee96
DTSTAMP:20260424T164716Z
DESCRIPTION:
DTSTART;TZID=America/Chicago:20260424T193000
DTEND;TZID=America/Chicago:20260424T220000
LOCATION:2500 S. 56th St.\, Lincoln\, NE 68506 US
SUMMARY:Pippin
END:VEVENT
END:VCALENDAR
