BEGIN:VCALENDAR
VERSION:2.0
PRODID:-//www.lincolnplayhouse.com//NONSGML kigkonsult.se iCalcreator 2.30.
 10//
CALSCALE:GREGORIAN
METHOD:PUBLISH
UID:fb955db2-df50-4ce8-bec0-9f92df363df8
X-WR-CALDESC:
X-WR-RELCALID:6a26bd13da00a3d46d695696859f26bc
X-WR-TIMEZONE:America/Chicago
BEGIN:VTIMEZONE
TZID:America/Chicago
BEGIN:STANDARD
TZNAME:CST
DTSTART:20211107T020000
TZOFFSETFROM:-0500
TZOFFSETTO:-0600
RDATE:20221106T020000
RDATE:20231105T020000
END:STANDARD
BEGIN:DAYLIGHT
TZNAME:CDT
DTSTART:20220313T020000
TZOFFSETFROM:-0600
TZOFFSETTO:-0500
RDATE:20230312T020000
RDATE:20240310T020000
END:DAYLIGHT
END:VTIMEZONE
BEGIN:VEVENT
UID:2cb87e2a-4201-445a-96ad-b72fec041301
DTSTAMP:20260425T143403Z
DESCRIPTION:
DTSTART;TZID=America/Chicago:20221028T193000
DTEND;TZID=America/Chicago:20221028T213000
LOCATION:
SUMMARY:Pride & Prejudice
END:VEVENT
END:VCALENDAR
