BEGIN:VCALENDAR
VERSION:2.0
PRODID:-//www.lincolnplayhouse.com//NONSGML kigkonsult.se iCalcreator 2.30.
 10//
CALSCALE:GREGORIAN
METHOD:PUBLISH
UID:a7589d09-75d0-4ecc-a113-bcb98cc7c5e5
X-WR-CALDESC:
X-WR-RELCALID:2fbf986c10a2f49b59dba93065f991fb
X-WR-TIMEZONE:America/Chicago
BEGIN:VTIMEZONE
TZID:America/Chicago
BEGIN:STANDARD
TZNAME:CST
DTSTART:20191103T020000
TZOFFSETFROM:-0500
TZOFFSETTO:-0600
RDATE:20201101T020000
END:STANDARD
BEGIN:DAYLIGHT
TZNAME:CDT
DTSTART:20190310T020000
TZOFFSETFROM:-0600
TZOFFSETTO:-0500
RDATE:20200308T020000
RDATE:20210314T020000
END:DAYLIGHT
END:VTIMEZONE
BEGIN:VEVENT
UID:0394b503-1ca6-4f15-a1a3-b9947893c596
DTSTAMP:20260425T135143Z
DESCRIPTION:
DTSTART;TZID=America/Chicago:20200130T180000
DTEND;TZID=America/Chicago:20200130T190000
LOCATION:Lincoln Community Playhouse
SUMMARY:Penguin Project: Willy Wonka JR Registration Meeting - Jan. 30
END:VEVENT
END:VCALENDAR
